BEGIN:VCALENDAR
VERSION:2.0
PRODID:-//EEAO - ECPv6.15.20//NONSGML v1.0//EN
CALSCALE:GREGORIAN
METHOD:PUBLISH
X-ORIGINAL-URL:https://eeao.de/wordpress
X-WR-CALDESC:Veranstaltungen für EEAO
REFRESH-INTERVAL;VALUE=DURATION:PT1H
X-Robots-Tag:noindex
X-PUBLISHED-TTL:PT1H
BEGIN:VTIMEZONE
TZID:Europe/Berlin
BEGIN:DAYLIGHT
TZOFFSETFROM:+0100
TZOFFSETTO:+0200
TZNAME:CEST
DTSTART:20250330T010000
END:DAYLIGHT
BEGIN:STANDARD
TZOFFSETFROM:+0200
TZOFFSETTO:+0100
TZNAME:CET
DTSTART:20251026T010000
END:STANDARD
BEGIN:DAYLIGHT
TZOFFSETFROM:+0100
TZOFFSETTO:+0200
TZNAME:CEST
DTSTART:20260329T010000
END:DAYLIGHT
BEGIN:STANDARD
TZOFFSETFROM:+0200
TZOFFSETTO:+0100
TZNAME:CET
DTSTART:20261025T010000
END:STANDARD
BEGIN:DAYLIGHT
TZOFFSETFROM:+0100
TZOFFSETTO:+0200
TZNAME:CEST
DTSTART:20270328T010000
END:DAYLIGHT
BEGIN:STANDARD
TZOFFSETFROM:+0200
TZOFFSETTO:+0100
TZNAME:CET
DTSTART:20271031T010000
END:STANDARD
END:VTIMEZONE
BEGIN:VEVENT
DTSTART;TZID=Europe/Berlin:20260516T160000
DTEND;TZID=Europe/Berlin:20260516T170000
DTSTAMP:20260422T164617
CREATED:20260414T095353Z
LAST-MODIFIED:20260414T095354Z
UID:896-1778947200-1778950800@eeao.de
SUMMARY:Kirchenkonzert
DESCRIPTION:Der Ausschuss für Kultur\, Jugend\, Schule und Sport der Gemeinde Prohn organisiert auch in diesem Jahr wieder vielfältige Aktionen für die Bürger*innen der Gemeinde und seine Gäste. \n\n\n\nDer Terminkalender für 2026 ist gut gefüllt. Neben zahlreichen Mitmachaktivitäten und dem Dorffest als einen Höhepunkt\, stehen auch kulturelle Besonderheiten auf dem Programm. \n\n\n\nDazu zählt zum Beispiel das Gastspiel des Ersten Essener Akkordeonorchesters am Sonnabend\, 16.05.2026\, um 16 Uhr in der Prohner Kirche. Das Orchester überzeugt musikalisch mit einem Repertoire\, welches von Klassik\, Rock-und Popmusik bis hin zu bekannten Filmmusiken reicht. \n\n\n\nZum Konzert sind Sie herzlich eingeladen! Der Kartenvorverkauf startet ab 1. April 2026. Telefonisch können Sie bereits jetzt Eintrittskarten reservieren und bestellen (Mobil: 0179 5912188).Weitere Informationen entnehmen Sie bitte den bekannten Aushängen sowie der Internetseite der Gemeinde Prohn!
URL:https://eeao.de/wordpress/event/kirchenkonzert-3/
LOCATION:Kirche in Prohn\, Stralsunder Straße 23\, Prohn\, 18445\, Germany
END:VEVENT
BEGIN:VEVENT
DTSTART;TZID=Europe/Berlin:20260621T000000
DTEND;TZID=Europe/Berlin:20260621T235959
DTSTAMP:20260422T164617
CREATED:20251207T194641Z
LAST-MODIFIED:20251207T200716Z
UID:871-1782000000-1782086399@eeao.de
SUMMARY:Fête de la musique
DESCRIPTION:
URL:https://eeao.de/wordpress/event/fete-de-la-musique/
END:VEVENT
BEGIN:VEVENT
DTSTART;TZID=Europe/Berlin:20260711T200000
DTEND;TZID=Europe/Berlin:20260711T210000
DTSTAMP:20260422T164617
CREATED:20251207T194659Z
LAST-MODIFIED:20260414T130254Z
UID:873-1783800000-1783803600@eeao.de
SUMMARY:Mr. Wash
DESCRIPTION:
URL:https://eeao.de/wordpress/event/mr-wash/
LOCATION:Mr. Wash\, Mr Wash Hans-Böckler-Straße 23\, Essen Frohnhausen\, NRW\, 45127\, Deutschland
END:VEVENT
BEGIN:VEVENT
DTSTART;TZID=Europe/Berlin:20261107T000000
DTEND;TZID=Europe/Berlin:20261107T235959
DTSTAMP:20260422T164617
CREATED:20251207T194726Z
LAST-MODIFIED:20251207T194726Z
UID:875-1794009600-1794095999@eeao.de
SUMMARY:Konzert Erlöserkirche
DESCRIPTION:
URL:https://eeao.de/wordpress/event/konzert-erloeserkirche/
END:VEVENT
END:VCALENDAR